BEGIN:VCALENDAR

VERSION:2.0

PRODID:-//hacksw/handcal//NONSGML v1.0//EN

BEGIN:VEVENT

UID:a7fa63d3333a48ec331ec5b84fd39364

DTSTAMP:20200301T185858Z

DTSTART:20200305T150000

DTEND:20200305T151500

SUMMARY:9073833 - DECEPTION BAY, 3/42-44 Balmoral Place

END:VEVENT

END:VCALENDAR