BEGIN:VCALENDAR

VERSION:2.0

PRODID:-//hacksw/handcal//NONSGML v1.0//EN

BEGIN:VEVENT

UID:f2942aed9436529bc6c4d7ac2349debb

DTSTAMP:20200301T185945Z

DTSTART:20200307T093000

DTEND:20200307T094500

SUMMARY:20884939 - SPRINGFIELD LAKES, 3 Aldworth Place

END:VEVENT

END:VCALENDAR