BEGIN:VCALENDAR

VERSION:2.0

PRODID:-//hacksw/handcal//NONSGML v1.0//EN

BEGIN:VEVENT

UID:84cb30b404f2f01e034896ca564d58a8

DTSTAMP:20200301T190004Z

DTSTART:20200307T120000

DTEND:20200307T121500

SUMMARY:5885611 - FITZGIBBON, 4/3 Kuranda Park Way

END:VEVENT

END:VCALENDAR