BEGIN:VCALENDAR

VERSION:2.0

PRODID:-//hacksw/handcal//NONSGML v1.0//EN

BEGIN:VEVENT

UID:be5aa9f66b79adbbab0e53495f061907

DTSTAMP:20200301T190016Z

DTSTART:20200307T123000

DTEND:20200307T124500

SUMMARY:18129041 - BRACKEN RIDGE, 93 Sophy Cres

END:VEVENT

END:VCALENDAR